Workbook

Sheet TJO
A1: TJO - 2011 MPB Update
A2: Area (ha) of MPB Attack Severity by Age Class and Density within Pine Stands (Pine Species >= 30% density - The Pine Mask)
A3: TSA Area | B3: 4676637.2
A4: Pine Mask Unharvested Area | B4: =SUM(data!D2:D200) -> 885848.68
A6: MPB Attack as a percentage of Pine affected within the VRI Stand
A8: MPB Attack Severity
C9: Light (<11%) | E9: Moderate (11-30%) | G9: Severe (31-50%) | I9: Very Severe (>50%) | K9: All Severity | M9: No Attack
A10: Age Class | B10: Pine Density | C10: Area (ha) | D10: Percent of all Pine (Pine Mask) | E10: Area (ha) | F10: Percent of all Pine (Pine Mask) | G10: Area (ha) | H10: Percent of all Pine (Pine Mask) | I10: Area (ha) | J10: Percent of all Pine (Pine Mask) | K10: Total Area of Attack (ha) | L10: Percent of all Pine (Pine Mask) | M10: Area (ha) | N10: Percent of all Pine (Pine Mask)
A11: 21-40 years | B11: 30-70% | C11: {=SUM(IF(data!A2:A200="21-40 years",IF(data!B2:B200="30-70%",IF(data!C2:C200="Light (<11%)",data!D2:D200,0),0),0))} -> 2964.9003 | D11: =C11/($K$20+$M$20) -> 0.003385049 | E11: {=SUM(IF(data!A2:A200="21-40 years",IF(data!B2:B200="30-70%",IF(data!C2:C200="Moderate (11-30%)",data!D2:D200,0),0),0))} -> 1905.3311 | F11: =E11/($K$20+$M$20) -> 0.0021753308 | G11: {=SUM(IF(data!A2:A200="21-40 years",IF(data!B2:B200="30-70%",IF(data!C2:C200="Severe (31-50%)",data!D2:D200,0),0),0))} -> 623.99371 | H11: =G11/($K$20+$M$20) -> 0.00071241832 | I11: {=SUM(IF(data!A2:A200="21-40 years",IF(data!B2:B200="30-70%",IF(data!C2:C200="Very Severe (>50%)",data!D2:D200,0),0),0))} -> 2088.5126 | J11: =I11/($K$20+$M$20) -> 0.0023844705 | K11: =SUM(C11,E11,G11,I11) -> 7582.7377 | L11: =K11/($K$20+$M$20) -> 0.0086572687 | M11: {=SUM(IF(data!A2:A200="21-40 years",IF(data!B2:B200="30-70%",IF(data!C2:C200="No Attack",data!D2:D200,0),0),0))} -> 12889.982 | N11: =M11/($K$20+$M$20) -> 0.014716589
B12: >70% | C12: {=SUM(IF(data!A2:A200="21-40 years",IF(data!B2:B200=">70%",IF(data!C2:C200="Light (<11%)",data!D2:D200,0),0),0))} -> 3219.9986 | D12: =C12/($K$20+$M$20) -> 0.0036762966 | E12: {=SUM(IF(data!A2:A200="21-40 years",IF(data!B2:B200=">70%",IF(data!C2:C200="Moderate (11-30%)",data!D2:D200,0),0),0))} -> 1216.0439 | F12: =E12/($K$20+$M$20) -> 0.0013883665 | G12: {=SUM(IF(data!A2:A200="21-40 years",IF(data!B2:B200=">70%",IF(data!C2:C200="Severe (31-50%)",data!D2:D200,0),0),0))} -> 549.32302 | H12: =G12/($K$20+$M$20) -> 0.00062716623 | I12: {=SUM(IF(data!A2:A200="21-40 years",IF(data!B2:B200=">70%",IF(data!C2:C200="Very Severe (>50%)",data!D2:D200,0),0),0))} -> 1904.7758 | J12: =I12/($K$20+$M$20) -> 0.0021746969 | K12: =SUM(C12,E12,G12,I12) -> 6890.1414 | L12: =K12/($K$20+$M$20) -> 0.0078665263 | M12: {=SUM(IF(data!A2:A200="21-40 years",IF(data!B2:B200=">70%",IF(data!C2:C200="No Attack",data!D2:D200,0),0),0))} -> 10003.618 | N12: =M12/($K$20+$M$20) -> 0.011421207
A14: 41-60 years | B14: 30-70% | C14: {=SUM(IF(data!A2:A200="41-60 years",IF(data!B2:B200="30-70%",IF(data!C2:C200="Light (<11%)",data!D2:D200,0),0),0))} -> 2030.8617 | D14: =C14/($K$20+$M$20) -> 0.00231865 | E14: {=SUM(IF(data!A2:A200="41-60 years",IF(data!B2:B200="30-70%",IF(data!C2:C200="Moderate (11-30%)",data!D2:D200,0),0),0))} -> 2018.0275 | F14: =E14/($K$20+$M$20) -> 0.0023039972 | G14: {=SUM(IF(data!A2:A200="41-60 years",IF(data!B2:B200="30-70%",IF(data!C2:C200="Severe (31-50%)",data!D2:D200,0),0),0))} -> 1558.4904 | H14: =G14/($K$20+$M$20) -> 0.0017793402 | I14: {=SUM(IF(data!A2:A200="41-60 years",IF(data!B2:B200="30-70%",IF(data!C2:C200="Very Severe (>50%)",data!D2:D200,0),0),0))} -> 13001.634 | J14: =I14/($K$20+$M$20) -> 0.014844063 | K14: =SUM(C14,E14,G14,I14) -> 18609.013 | L14: =K14/($K$20+$M$20) -> 0.021246051 | M14: {=SUM(IF(data!A2:A200="41-60 years",IF(data!B2:B200="30-70%",IF(data!C2:C200="No Attack",data!D2:D200,0),0),0))} -> 22815.357 | N14: =M14/($K$20+$M$20) -> 0.026048464
B15: >70% | C15: {=SUM(IF(data!A2:A200="41-60 years",IF(data!B2:B200=">70%",IF(data!C2:C200="Light (<11%)",data!D2:D200,0),0),0))} -> 2520.3626 | D15: =C15/($K$20+$M$20) -> 0.0028775169 | E15: {=SUM(IF(data!A2:A200="41-60 years",IF(data!B2:B200=">70%",IF(data!C2:C200="Moderate (11-30%)",data!D2:D200,0),0),0))} -> 2943.1406 | F15: =E15/($K$20+$M$20) -> 0.0033602058 | G15: {=SUM(IF(data!A2:A200="41-60 years",IF(data!B2:B200=">70%",IF(data!C2:C200="Severe (31-50%)",data!D2:D200,0),0),0))} -> 2905.0289 | H15: =G15/($K$20+$M$20) -> 0.0033166934 | I15: {=SUM(IF(data!A2:A200="41-60 years",IF(data!B2:B200=">70%",IF(data!C2:C200="Very Severe (>50%)",data!D2:D200,0),0),0))} -> 19639.367 | J15: =I15/($K$20+$M$20) -> 0.022422413 | K15: =SUM(C15,E15,G15,I15) -> 28007.899 | L15: =K15/($K$20+$M$20) -> 0.03197683 | M15: {=SUM(IF(data!A2:A200="41-60 years",IF(data!B2:B200=">70%",IF(data!C2:C200="No Attack",data!D2:D200,0),0),0))} -> 26205.446 | N15: =M15/($K$20+$M$20) -> 0.029918955
A17: >60 years | B17: 30-70% | C17: {=SUM(IF(data!A2:A200=">60 years",IF(data!B2:B200="30-70%",IF(data!C2:C200="Light (<11%)",data!D2:D200,0),0),0))} -> 14926.879 | D17: =C17/($K$20+$M$20) -> 0.01704213 | E17: {=SUM(IF(data!A2:A200=">60 years",IF(data!B2:B200="30-70%",IF(data!C2:C200="Moderate (11-30%)",data!D2:D200,0),0),0))} -> 16625.728 | F17: =E17/($K$20+$M$20) -> 0.018981719 | G17: {=SUM(IF(data!A2:A200=">60 years",IF(data!B2:B200="30-70%",IF(data!C2:C200="Severe (31-50%)",data!D2:D200,0),0),0))} -> 14319.184 | H17: =G17/($K$20+$M$20) -> 0.01634832 | I17: {=SUM(IF(data!A2:A200=">60 years",IF(data!B2:B200="30-70%",IF(data!C2:C200="Very Severe (>50%)",data!D2:D200,0),0),0))} -> 194220.34 | J17: =I17/($K$20+$M$20) -> 0.22174282 | K17: =SUM(C17,E17,G17,I17) -> 240092.13 | L17: =K17/($K$20+$M$20) -> 0.27411499 | M17: {=SUM(IF(data!A2:A200=">60 years",IF(data!B2:B200="30-70%",IF(data!C2:C200="No Attack",data!D2:D200,0),0),0))} -> 171061.28 | N17: =M17/($K$20+$M$20) -> 0.19530195
B18: >70% | C18: {=SUM(IF(data!A2:A200=">60 years",IF(data!B2:B200=">70%",IF(data!C2:C200="Light (<11%)",data!D2:D200,0),0),0))} -> 10265.56 | D18: =C18/($K$20+$M$20) -> 0.011720267 | E18: {=SUM(IF(data!A2:A200=">60 years",IF(data!B2:B200=">70%",IF(data!C2:C200="Moderate (11-30%)",data!D2:D200,0),0),0))} -> 11778.896 | F18: =E18/($K$20+$M$20) -> 0.013448054 | G18: {=SUM(IF(data!A2:A200=">60 years",IF(data!B2:B200=">70%",IF(data!C2:C200="Severe (31-50%)",data!D2:D200,0),0),0))} -> 11364.576 | H18: =G18/($K$20+$M$20) -> 0.012975022 | I18: {=SUM(IF(data!A2:A200=">60 years",IF(data!B2:B200=">70%",IF(data!C2:C200="Very Severe (>50%)",data!D2:D200,0),0),0))} -> 182698.86 | J18: =I18/($K$20+$M$20) -> 0.20858866 | K18: =SUM(C18,E18,G18,I18) -> 216107.89 | L18: =K18/($K$20+$M$20) -> 0.24673201 | M18: {=SUM(IF(data!A2:A200=">60 years",IF(data!B2:B200=">70%",IF(data!C2:C200="No Attack",data!D2:D200,0),0),0))} -> 115615.57 | N18: =M18/($K$20+$M$20) -> 0.13199917
A20: Total | C20: =SUM(C11:C18) -> 35928.562 | D20: =C20/($K$20+$M$20) -> 0.041019909 | E20: =SUM(E11:E18) -> 36487.166 | F20: =E20/($K$20+$M$20) -> 0.041657673 | G20: =SUM(G11:G18) -> 31320.596 | H20: =G20/($K$20+$M$20) -> 0.03575896 | I20: =SUM(I11:I18) -> 413553.49 | J20: =I20/($K$20+$M$20) -> 0.47215713 | K20: =SUM(K11:K18) -> 517289.81 | L20: =SUM(L11:L18) -> 0.59059367 | M20: =SUM(M11:M18) -> 358591.25 | N20: =SUM(N11:N18) -> 0.40940633

Sheet data
A1: Age Class | B1: Pine Density | C1: MPB Attack Severity | D1: Sum Of area_ha
A2: <21 years | B2: >70% | C2: Light (<11%) | D2: 108.54361
A3: <21 years | B3: >70% | C3: Light (<11%) | D3: 1250.0983
A4: <21 years | B4: >70% | C4: Moderate (11-30%) | D4: 419.10813
A5: <21 years | B5: >70% | C5: No Attack | D5: 3589.4646
A6: <21 years | B6: >70% | C6: No Attack | D6: 0.019979699
A7: <21 years | B7: >70% | C7: No Attack | D7: 1.6934551e-05
A8: <21 years | B8: >70% | C8: No Attack | D8: 394.8366
A9: <21 years | B9: >70% | C9: Severe (31-50%) | D9: 104.51731
A10: <21 years | B10: >70% | C10: Very Severe (>50%) | D10: 162.39676
A11: <21 years | B11: 30-70% | C11: Light (<11%) | D11: 139.43003
A12: <21 years | B12: 30-70% | C12: Light (<11%) | D12: 856.07992
A13: <21 years | B13: 30-70% | C13: Moderate (11-30%) | D13: 41.960859
... A96: 41-60 years | B96: 30-70% | C96: Very Severe (>50%) | D96: 11896.587

Sheet Sheet3
